BEGIN:VCALENDAR
VERSION:2.0
PRODID:-//Anthony Hammond - ECPv6.15.12.2//NONSGML v1.0//EN
CALSCALE:GREGORIAN
METHOD:PUBLISH
X-ORIGINAL-URL:https://anthonyhammond.com
X-WR-CALDESC:Events for Anthony Hammond
REFRESH-INTERVAL;VALUE=DURATION:PT1H
X-Robots-Tag:noindex
X-PUBLISHED-TTL:PT1H
BEGIN:VTIMEZONE
TZID:UTC
BEGIN:STANDARD
TZOFFSETFROM:+0000
TZOFFSETTO:+0000
TZNAME:UTC
DTSTART:20180101T000000
END:STANDARD
END:VTIMEZONE
BEGIN:VEVENT
DTSTART;TZID=UTC:20251114T121500
DTEND;TZID=UTC:20251114T130000
DTSTAMP:20260420T082137
CREATED:20250621T231819Z
LAST-MODIFIED:20250621T231819Z
UID:1559-1763122500-1763125200@anthonyhammond.com
SUMMARY:Lunchtime Recital: Trinity Copley Square
DESCRIPTION:
URL:https://anthonyhammond.com/event/lunchtime-recital-trinity-copley-square/
CATEGORIES:Recital
END:VEVENT
BEGIN:VEVENT
DTSTART;TZID=UTC:20250803T160000
DTEND;TZID=UTC:20250803T160000
DTSTAMP:20260420T082137
CREATED:20250224T233432Z
LAST-MODIFIED:20250224T233452Z
UID:1529-1754236800-1754236800@anthonyhammond.com
SUMMARY:Concert: Co-Cathedral of St. Joseph's\, Brooklyn
DESCRIPTION:
URL:https://anthonyhammond.com/event/concert-co-cathedral-of-st-josephs-brooklyn/
END:VEVENT
BEGIN:VEVENT
DTSTART;TZID=UTC:20250314T123000
DTEND;TZID=UTC:20250314T130000
DTSTAMP:20260420T082137
CREATED:20250224T233255Z
LAST-MODIFIED:20250224T233255Z
UID:1527-1741955400-1741957200@anthonyhammond.com
SUMMARY:Lenten Recital Series @ Grace Church Madison
DESCRIPTION:
URL:https://anthonyhammond.com/event/lenten-recital-series-grace-church-madison/
END:VEVENT
BEGIN:VEVENT
DTSTART;TZID=UTC:20250227T123000
DTEND;TZID=UTC:20250227T130000
DTSTAMP:20260420T082137
CREATED:20250224T233102Z
LAST-MODIFIED:20250224T233102Z
UID:1525-1740659400-1740661200@anthonyhammond.com
SUMMARY:Princeton University AfterNoon Series: Live Radio Broadcast
DESCRIPTION:Listen at WWFM.org or come to Princeton University Chapel to hear an all-Duruflé program concluding with the Suite Op. 5 in its entirety!
URL:https://anthonyhammond.com/event/princeton-university-afternoon-series-live-radio-broadcast/
CATEGORIES:Recital
END:VEVENT
BEGIN:VEVENT
DTSTART;TZID=UTC:20231028T193000
DTEND;TZID=UTC:20231028T213000
DTSTAMP:20260420T082137
CREATED:20230918T011211Z
LAST-MODIFIED:20230918T011211Z
UID:1077-1698521400-1698528600@anthonyhammond.com
SUMMARY:The Phantom of the Opera: Silent Movie with Improvised Organ Accompaniment
DESCRIPTION:After a phenomenal response to a sold-out event last year with Nosferatu\, Dr. Anthony Hammond returns to the organ of St. Peter’s to play an improvised organ accompaniment to the 1925/1929 silent film from Hollywood’s golden area. \nJoin us for a Halloween-themed night of music and film – dressing up encouraged!
URL:https://anthonyhammond.com/event/the-phantom-of-the-opera-silent-movie-with-improvised-organ-accompaniment/
LOCATION:St. Peter’s Episcopal Church\, 70 Maple Avenue\, Morristown\, NJ\, 07960\, United States
END:VEVENT
BEGIN:VEVENT
DTSTART;TZID=UTC:20230923T193000
DTEND;TZID=UTC:20230923T210000
DTSTAMP:20260420T082137
CREATED:20230918T010307Z
LAST-MODIFIED:20230918T010510Z
UID:1071-1695497400-1695502800@anthonyhammond.com
SUMMARY:Gala Organ Concert
DESCRIPTION:Dr. Anthony Hammond\, critically acclaimed international concert and recording artist and Director of Music at St. Peter’s\, performs a gala concert of masterpieces for organ. \nThe evening celebrates a unique musical treasure housed right in Morristown – our beautiful Skinner organ\, an incredibly rare unaltered instrument from 1930. To show off its beauty and versatility\, Anthony will play works by Leo Sowerby (‘Comes Autumn Time’)\, J.S. Bach (Passacaglia)\, Franz Liszt (‘Orpheus’)\, and Louis Vierne (‘Feux follets’\, ‘Clair de Lune’\, Toccata). \nAnthony is particularly well-known for his prize-winning improvisations\, and the program will end with an improvisation on a submitted theme – which he won’t know until he opens the envelope containing it! \nAt 6:30 pm\, there will be a pre-concert discussion covering the historic nature of the organ and the upcoming console project and diving deeper into the program’s work. Questions are welcome! \nThis evening will kick off the long-awaited process of restoring the organ to its full glory! Admission is free\, but donations are always gratefully received. We look forward to seeing you there.
URL:https://anthonyhammond.com/event/gala-organ-concert/
LOCATION:St. Peter’s Episcopal Church\, 70 Maple Avenue\, Morristown\, NJ\, 07960\, United States
END:VEVENT
BEGIN:VEVENT
DTSTART;TZID=UTC:20230917T150000
DTEND;TZID=UTC:20230917T163000
DTSTAMP:20260420T082137
CREATED:20230918T011843Z
LAST-MODIFIED:20230918T011843Z
UID:1079-1694962800-1694968200@anthonyhammond.com
SUMMARY:Opening of Cathedral Recital Series
DESCRIPTION:Anthony Hammond opens the 55th Cathedral Recital Series on the Shantz organ of the Cathedral Basilica of the Sacred Heart in Newark\, New Jersey. \nRecital Program includes Langlais’ Te Deum\, Franck’s Choral No. 1 in E\, Vierne’s Carillon de Westminster\, and Saint-Martin’s Toccata de Liberation.
URL:https://anthonyhammond.com/event/opening-of-cathedral-recital-series/
LOCATION:Cathedral Basilica of the Sacred Heart\, 89 Ridge St\, Newark\, NJ\, United States
END:VEVENT
BEGIN:VEVENT
DTSTART;VALUE=DATE:20220723
DTEND;VALUE=DATE:20220724
DTSTAMP:20260420T082137
CREATED:20210911T165924Z
LAST-MODIFIED:20210912T111353Z
UID:722-1658534400-1658620799@anthonyhammond.com
SUMMARY:RCO Lecture: Incorporated Society of Organists Congress
DESCRIPTION:Keynote speaker for the RCO lecture to the Incorporated Association of Organists Congress
URL:https://anthonyhammond.com/event/722/
LOCATION:Greyfriars Kirk\, Edinburgh\, United Kingdom
END:VEVENT
BEGIN:VEVENT
DTSTART;TZID=UTC:20220206T180000
DTEND;TZID=UTC:20220206T184500
DTSTAMP:20260420T082137
CREATED:20210913T193324Z
LAST-MODIFIED:20210916T120134Z
UID:795-1644170400-1644173100@anthonyhammond.com
SUMMARY:St. Giles at Six - Organ Recitals
DESCRIPTION:
URL:https://anthonyhammond.com/event/st-giles-at-six-organ-recitals/
LOCATION:St. Giles’ Cathedral\, High Street\, Edinburgh
CATEGORIES:Recital
END:VEVENT
BEGIN:VEVENT
DTSTART;TZID=UTC:20211113T193000
DTEND;TZID=UTC:20211113T203000
DTSTAMP:20260420T082137
CREATED:20210912T111003Z
LAST-MODIFIED:20210912T111159Z
UID:730-1636831800-1636835400@anthonyhammond.com
SUMMARY:The Chapter House Singers in Concert
DESCRIPTION:Psalms of Hope and Reconciliation \nByrd Sing Joyfully \nVaughan Williams Lord\, Thou hast been our refuge \nMendelssohn I waited for the Lord \nS.S. Wesley Ascribe unto the Lord \nWilliam Walton Jubilate Deo \nMonteverdi Beatus Vir \nHerbert Sumsion They that go down to the sea in ships \nJames MacMillan Sing joyfully to the Lord
URL:https://anthonyhammond.com/event/the-chapter-house-singers-in-concert/
LOCATION:St. Mary’s Episcopal Cathedral\, Palmerston Place\, Edinburgh\, EH12 5AW\, United Kingdom
END:VEVENT
BEGIN:VEVENT
DTSTART;TZID=UTC:20210828T190000
DTEND;TZID=UTC:20210828T203000
DTSTAMP:20260420T082137
CREATED:20210911T164101Z
LAST-MODIFIED:20210911T164516Z
UID:716-1630177200-1630182600@anthonyhammond.com
SUMMARY:No Allelluias: A Requiem for 2020
DESCRIPTION:A world premiere commission to close the 2021 Edinburgh Just Festival \nComposer and Conductor: Dr. Anthony Hammond \nWords: Robert Rae \nOriginal Text: Rev. Dr. Karen Georgia Thompson \nOrgan: Dr. Caroline Cradock \nSoloist: Alexandra Blum
URL:https://anthonyhammond.com/event/no-allelluias-a-requiem-for-2020/
LOCATION:St. John the Evangelist\, Edinburgh\, Lothian Road\, Edinburgh\, United Kingdom
END:VEVENT
BEGIN:VEVENT
DTSTART;TZID=UTC:20210820T110000
DTEND;TZID=UTC:20210820T120000
DTSTAMP:20260420T082137
CREATED:20210911T163337Z
LAST-MODIFIED:20210911T163337Z
UID:714-1629457200-1629460800@anthonyhammond.com
SUMMARY:Organ Recital at St. Cuthbert's Parish Church\, Edinburgh
DESCRIPTION:A lunchtime recital for the Edinburgh International Festival \n\nTu es petra (Thou art the rock) from Esquisses Byzantines – Henri Mulet\nPrière (from Six Pièces\, 1868) – César Franck\nImprovisation: Symphony in Four Movements on a Submitted Theme
URL:https://anthonyhammond.com/event/organ-recital-at-st-cuthberts-parish-church-edinburgh/
LOCATION:St Cuthbert’s\, Lothian Road
END:VEVENT
BEGIN:VEVENT
DTSTART;VALUE=DATE:20201024
DTEND;VALUE=DATE:20201026
DTSTAMP:20260420T082137
CREATED:20200206T140515Z
LAST-MODIFIED:20200206T140515Z
UID:692-1603497600-1603670399@anthonyhammond.com
SUMMARY:Ripon Cathedral - The Choir of St John the Evangelist on tour
DESCRIPTION:
URL:https://anthonyhammond.com/event/ripon-cathedral-the-choir-of-st-john-the-evangelist-on-tour/
LOCATION:Ripon Cathedral
CATEGORIES:Recital
END:VEVENT
BEGIN:VEVENT
DTSTART;TZID=UTC:20200826T123000
DTEND;TZID=UTC:20200826T133000
DTSTAMP:20260420T082137
CREATED:20200206T140314Z
LAST-MODIFIED:20200206T140314Z
UID:687-1598445000-1598448600@anthonyhammond.com
SUMMARY:St Andrew's and St George's West\, Edinburgh
DESCRIPTION:
URL:https://anthonyhammond.com/event/st-andrews-and-st-georges-west-edinburgh/
LOCATION:STAGs West\, George Street\, Edinburgh\, EH2 2PA
CATEGORIES:Recital
END:VEVENT
BEGIN:VEVENT
DTSTART;TZID=UTC:20200607T153000
DTEND;TZID=UTC:20200607T163000
DTSTAMP:20260420T082137
CREATED:20190725T100616Z
LAST-MODIFIED:20190725T100616Z
UID:671-1591543800-1591547400@anthonyhammond.com
SUMMARY:Holy Trinity Gosport: Teatime concert
DESCRIPTION:
URL:https://anthonyhammond.com/event/holy-trinity-gosport-teatime-concert/
LOCATION:Holy Trinity Gosport\, Holy Trinity Church\, Trinity Green\, Gosport\, PO12 1HL\, United Kingdom
CATEGORIES:Recital
END:VEVENT
BEGIN:VEVENT
DTSTART;TZID=UTC:20200529T150000
DTEND;TZID=UTC:20200529T160000
DTSTAMP:20260420T082137
CREATED:20190905T115200Z
LAST-MODIFIED:20190905T115200Z
UID:677-1590764400-1590768000@anthonyhammond.com
SUMMARY:All Saints\, Marlow
DESCRIPTION:
URL:https://anthonyhammond.com/event/all-saints-marlow/
LOCATION:All Saints Church\, Marlow\, High Street\, Marlow \, SL7 2AA\, United Kingdom
CATEGORIES:Recital
END:VEVENT
BEGIN:VEVENT
DTSTART;TZID=UTC:20200527T120000
DTEND;TZID=UTC:20200527T133000
DTSTAMP:20260420T082137
CREATED:20200206T140122Z
LAST-MODIFIED:20200206T140122Z
UID:685-1590580800-1590586200@anthonyhammond.com
SUMMARY:Oxford Town Hall
DESCRIPTION:
URL:https://anthonyhammond.com/event/oxford-town-hall-3/
CATEGORIES:Recital
END:VEVENT
BEGIN:VEVENT
DTSTART;VALUE=DATE:20200417
DTEND;VALUE=DATE:20200421
DTSTAMP:20260420T082137
CREATED:20200206T140424Z
LAST-MODIFIED:20200206T140424Z
UID:690-1587081600-1587427199@anthonyhammond.com
SUMMARY:Florence\, Italy - The Choir of St John the Evangelist on tour
DESCRIPTION:
URL:https://anthonyhammond.com/event/florence-italy-the-choir-of-st-john-the-evangelist-on-tour/
CATEGORIES:Recital
END:VEVENT
BEGIN:VEVENT
DTSTART;TZID=UTC:20200207T131000
DTEND;TZID=UTC:20200207T140000
DTSTAMP:20260420T082137
CREATED:20200206T140002Z
LAST-MODIFIED:20200206T140002Z
UID:682-1581081000-1581084000@anthonyhammond.com
SUMMARY:University of Edinburgh: McEwan Hall
DESCRIPTION:Free admission. A Liszt programme: Fantasia & Fugue on ‘Ad nos\, ad salutarem undam’\, and the Prelude & Fugue on BACH.
URL:https://anthonyhammond.com/event/university-of-edinburgh-mcewan-hall/
LOCATION:McEwan Hall\, EH8 9
CATEGORIES:Recital
END:VEVENT
BEGIN:VEVENT
DTSTART;TZID=UTC:20200111T143000
DTEND;TZID=UTC:20200111T163000
DTSTAMP:20260420T082137
CREATED:20190725T100408Z
LAST-MODIFIED:20190725T100408Z
UID:669-1578753000-1578760200@anthonyhammond.com
SUMMARY:Lecture recital for ESO
DESCRIPTION:
URL:https://anthonyhammond.com/event/lecture-recital-for-eso/
LOCATION:St Cuthbert’s\, Lothian Road
CATEGORIES:Lecture,Recital
END:VEVENT
BEGIN:VEVENT
DTSTART;TZID=UTC:20191122T193000
DTEND;TZID=UTC:20191122T213000
DTSTAMP:20260420T082137
CREATED:20190725T100314Z
LAST-MODIFIED:20190725T100314Z
UID:667-1574451000-1574458200@anthonyhammond.com
SUMMARY:Silent Movie Night!
DESCRIPTION:Film tbc
URL:https://anthonyhammond.com/event/silent-movie-night/
LOCATION:St Michael’s\, Ledbury\, Church Rd\,\, Ledbury\, HR8 1EB\, United Kingdom
CATEGORIES:Silent Movie
END:VEVENT
BEGIN:VEVENT
DTSTART;TZID=UTC:20190807T123000
DTEND;TZID=UTC:20190807T133000
DTSTAMP:20260420T082137
CREATED:20190725T095915Z
LAST-MODIFIED:20190725T095915Z
UID:664-1565181000-1565184600@anthonyhammond.com
SUMMARY:St Cuthbert's\, Edinburgh
DESCRIPTION:
URL:https://anthonyhammond.com/event/st-cuthberts-edinburgh/
LOCATION:St Cuthbert’s\, Lothian Road
CATEGORIES:Recital
END:VEVENT
BEGIN:VEVENT
DTSTART;TZID=UTC:20190610T130000
DTEND;TZID=UTC:20190610T130000
DTSTAMP:20260420T082137
CREATED:20180129T092826Z
LAST-MODIFIED:20180129T092754Z
UID:607-1560171600-1560171600@anthonyhammond.com
SUMMARY:Leeds Cathedral
DESCRIPTION:
URL:https://anthonyhammond.com/event/leeds-cathedral/
LOCATION:Leeds Cathedral\, Cathedral House\, Great George St\, Leeds\, LS2 8BE\, United Kingdom
CATEGORIES:Recital
END:VEVENT
BEGIN:VEVENT
DTSTART;TZID=UTC:20190527T110000
DTEND;TZID=UTC:20190527T120000
DTSTAMP:20260420T082137
CREATED:20181205T130901Z
LAST-MODIFIED:20181205T130901Z
UID:650-1558954800-1558958400@anthonyhammond.com
SUMMARY:All Saints’\, Leamington Spa
DESCRIPTION:Coffee Concert… with cake!
URL:https://anthonyhammond.com/event/all-saints-leamington-spa/
LOCATION:All Saint’s Church\, Leamington Spa
CATEGORIES:Recital
END:VEVENT
BEGIN:VEVENT
DTSTART;TZID=UTC:20190424T120000
DTEND;TZID=UTC:20190424T130000
DTSTAMP:20260420T082137
CREATED:20181123T120914Z
LAST-MODIFIED:20181123T120914Z
UID:635-1556107200-1556110800@anthonyhammond.com
SUMMARY:Oxford Town Hall
DESCRIPTION:
URL:https://anthonyhammond.com/event/oxford-town-hall/
LOCATION:Oxford Town Hall\, St Aldate's\, Oxford\, OX1 1BX\, United Kingdom
CATEGORIES:Recital
END:VEVENT
BEGIN:VEVENT
DTSTART;TZID=UTC:20190421T160000
DTEND;TZID=UTC:20190421T170000
DTSTAMP:20260420T082137
CREATED:20190105T125309Z
LAST-MODIFIED:20190420T085815Z
UID:654-1555862400-1555866000@anthonyhammond.com
SUMMARY:Easter Sunday Organ Recital - Anthony's leaving concert in Cirencester
DESCRIPTION:Anthony Hammond will be taking up a new post as Director of Music at St John the Evangelist\, Princes Street\, Edinburgh. This will be his final concert as Organist & Director of Music\, at Cirencester Parish Church. It will be followed by Choral Evensong for Easter Day. Details of the programme will follow.
URL:https://anthonyhammond.com/event/easter-sunday-organ-recital-anthonys-leaving-concert-in-cirencester/
LOCATION:Cirencester Parish Church\, Cirencester\, United Kingdom
CATEGORIES:Recital
END:VEVENT
BEGIN:VEVENT
DTSTART;TZID=UTC:20190414T180000
DTEND;TZID=UTC:20190414T190000
DTSTAMP:20260420T082137
CREATED:20190402T220510Z
LAST-MODIFIED:20190402T220510Z
UID:661-1555264800-1555268400@anthonyhammond.com
SUMMARY:The Stations of the Cross in words and music
DESCRIPTION:The poetry of Paul Claudel read by the Revd. Graham Morris. Improvisations by Anthony Hammond. Free entry\, retiring collection.
URL:https://anthonyhammond.com/event/the-stations-of-the-cross-in-words-and-music/
LOCATION:Cirencester Parish Church\, Cirencester\, United Kingdom
CATEGORIES:Recital
END:VEVENT
BEGIN:VEVENT
DTSTART;TZID=UTC:20190413T193000
DTEND;TZID=UTC:20190413T213000
DTSTAMP:20260420T082137
CREATED:20190402T220319Z
LAST-MODIFIED:20190402T220319Z
UID:659-1555183800-1555191000@anthonyhammond.com
SUMMARY:Silent movie - The King of Kings
DESCRIPTION:Cecil B. De Mille’s 1927 classic. The first movie of the life and passion of Christ with improvised organ accompaniment by Anthony Hammond. Tickets £10 on the door or in advance from the church shop.
URL:https://anthonyhammond.com/event/silent-movie-the-king-of-kings/
LOCATION:Cirencester Parish Church\, Cirencester\, United Kingdom
CATEGORIES:Silent Movie
END:VEVENT
BEGIN:VEVENT
DTSTART;TZID=UTC:20190306T121500
DTEND;TZID=UTC:20190306T130000
DTSTAMP:20260420T082137
CREATED:20180112T203843Z
LAST-MODIFIED:20181123T120727Z
UID:593-1551874500-1551877200@anthonyhammond.com
SUMMARY:Christ Church\, High Harrogate
DESCRIPTION:
URL:https://anthonyhammond.com/event/christ-church-high-harrogate/
LOCATION:Christ Church\, High Harrowgate\, Christ Church\, Church Square\, Harrogate North Yorkshire\, Harrogate\, HG1 4SW\, United Kingdom
CATEGORIES:Recital
END:VEVENT
BEGIN:VEVENT
DTSTART;TZID=UTC:20190202T170000
DTEND;TZID=UTC:20190202T180000
DTSTAMP:20260420T082137
CREATED:20181123T120542Z
LAST-MODIFIED:20181123T120542Z
UID:629-1549126800-1549130400@anthonyhammond.com
SUMMARY:Swiss Church\, London
DESCRIPTION:
URL:https://anthonyhammond.com/event/swiss-church-london/
LOCATION:Swiss Church\, London\, 79 Endell St\, London\, WC2H 9DY\, United Kingdom
CATEGORIES:Recital
END:VEVENT
END:VCALENDAR