BEGIN:VCALENDAR
VERSION:2.0
PRODID:-//Anthony Hammond - ECPv6.15.12.2//NONSGML v1.0//EN
CALSCALE:GREGORIAN
METHOD:PUBLISH
X-ORIGINAL-URL:https://anthonyhammond.com
X-WR-CALDESC:Events for Anthony Hammond
REFRESH-INTERVAL;VALUE=DURATION:PT1H
X-Robots-Tag:noindex
X-PUBLISHED-TTL:PT1H
BEGIN:VTIMEZONE
TZID:UTC
BEGIN:STANDARD
TZOFFSETFROM:+0000
TZOFFSETTO:+0000
TZNAME:UTC
DTSTART:20190101T000000
END:STANDARD
END:VTIMEZONE
BEGIN:VEVENT
DTSTART;VALUE=DATE:20201024
DTEND;VALUE=DATE:20201026
DTSTAMP:20260423T094649
CREATED:20200206T140515Z
LAST-MODIFIED:20200206T140515Z
UID:692-1603497600-1603670399@anthonyhammond.com
SUMMARY:Ripon Cathedral - The Choir of St John the Evangelist on tour
DESCRIPTION:
URL:https://anthonyhammond.com/event/ripon-cathedral-the-choir-of-st-john-the-evangelist-on-tour/
LOCATION:Ripon Cathedral
CATEGORIES:Recital
END:VEVENT
END:VCALENDAR