BEGIN:VCALENDAR
VERSION:2.0
PRODID:-//Anthony Hammond - ECPv6.15.12.2//NONSGML v1.0//EN
CALSCALE:GREGORIAN
METHOD:PUBLISH
X-ORIGINAL-URL:https://anthonyhammond.com
X-WR-CALDESC:Events for Anthony Hammond
REFRESH-INTERVAL;VALUE=DURATION:PT1H
X-Robots-Tag:noindex
X-PUBLISHED-TTL:PT1H
BEGIN:VTIMEZONE
TZID:UTC
BEGIN:STANDARD
TZOFFSETFROM:+0000
TZOFFSETTO:+0000
TZNAME:UTC
DTSTART:20210101T000000
END:STANDARD
END:VTIMEZONE
BEGIN:VEVENT
DTSTART;VALUE=DATE:20220723
DTEND;VALUE=DATE:20220724
DTSTAMP:20260422T021153
CREATED:20210911T165924Z
LAST-MODIFIED:20210912T111353Z
UID:722-1658534400-1658620799@anthonyhammond.com
SUMMARY:RCO Lecture: Incorporated Society of Organists Congress
DESCRIPTION:Keynote speaker for the RCO lecture to the Incorporated Association of Organists Congress
URL:https://anthonyhammond.com/event/722/
LOCATION:Greyfriars Kirk\, Edinburgh\, United Kingdom
END:VEVENT
END:VCALENDAR