BEGIN:VCALENDAR
VERSION:2.0
PRODID:-//Anthony Hammond - ECPv6.15.12.2//NONSGML v1.0//EN
CALSCALE:GREGORIAN
METHOD:PUBLISH
X-ORIGINAL-URL:https://anthonyhammond.com
X-WR-CALDESC:Events for Anthony Hammond
REFRESH-INTERVAL;VALUE=DURATION:PT1H
X-Robots-Tag:noindex
X-PUBLISHED-TTL:PT1H
BEGIN:VTIMEZONE
TZID:UTC
BEGIN:STANDARD
TZOFFSETFROM:+0000
TZOFFSETTO:+0000
TZNAME:UTC
DTSTART:20150101T000000
END:STANDARD
END:VTIMEZONE
BEGIN:VEVENT
DTSTART;TZID=UTC:20160327T160000
DTEND;TZID=UTC:20160327T170000
DTSTAMP:20260421T071553
CREATED:20160329T081432Z
LAST-MODIFIED:20160329T081432Z
UID:347-1459094400-1459098000@anthonyhammond.com
SUMMARY:Cirencester Parish Church - Annual Easter Sunday Organ Recital
DESCRIPTION:
URL:https://anthonyhammond.com/event/cirencester-parish-church-annual-easter-sunday-organ-recital/
LOCATION:Cirencester Parish Church\, Cirencester\, United Kingdom
CATEGORIES:Recital
END:VEVENT
END:VCALENDAR