BEGIN:VCALENDAR
VERSION:2.0
PRODID:-//Anthony Hammond - ECPv6.15.12.2//NONSGML v1.0//EN
CALSCALE:GREGORIAN
METHOD:PUBLISH
X-WR-CALNAME:Anthony Hammond
X-ORIGINAL-URL:https://anthonyhammond.com
X-WR-CALDESC:Events for Anthony Hammond
REFRESH-INTERVAL;VALUE=DURATION:PT1H
X-Robots-Tag:noindex
X-PUBLISHED-TTL:PT1H
BEGIN:VTIMEZONE
TZID:UTC
BEGIN:STANDARD
TZOFFSETFROM:+0000
TZOFFSETTO:+0000
TZNAME:UTC
DTSTART:20150101T000000
END:STANDARD
END:VTIMEZONE
BEGIN:VEVENT
DTSTART;TZID=UTC:20160704T131000
DTEND;TZID=UTC:20160704T135000
DTSTAMP:20260421T002844
CREATED:20160616T104351Z
LAST-MODIFIED:20160616T104835Z
UID:365-1467637800-1467640200@anthonyhammond.com
SUMMARY:Cirencester Parish Church
DESCRIPTION:Bach Connections – the music of JS Bach\, its inspirations and its influence. \nConcert 1: North German & Italian Influences \nWorks by Vivaldi\, Buxtehude and Bach
URL:https://anthonyhammond.com/event/cirencester-parish-church/
LOCATION:Cirencester Parish Church\, Cirencester\, United Kingdom
CATEGORIES:Recital
END:VEVENT
BEGIN:VEVENT
DTSTART;TZID=UTC:20160711T131000
DTEND;TZID=UTC:20160711T135000
DTSTAMP:20260421T002844
CREATED:20160616T104621Z
LAST-MODIFIED:20160616T104804Z
UID:366-1468242600-1468245000@anthonyhammond.com
SUMMARY:Cirencester Parish Church
DESCRIPTION:Bach Connections – the music of JS Bach\, its inspirations and its influence. \nConcert 2: The Art of the Variation \nWorks by Pachelbel\, Bach and Mendelssohn
URL:https://anthonyhammond.com/event/cirencester-parish-church-2/
LOCATION:Cirencester Parish Church\, Cirencester\, United Kingdom
CATEGORIES:Recital
END:VEVENT
BEGIN:VEVENT
DTSTART;TZID=UTC:20160718T131000
DTEND;TZID=UTC:20160718T135000
DTSTAMP:20260421T002844
CREATED:20160616T104730Z
LAST-MODIFIED:20160616T104730Z
UID:367-1468847400-1468849800@anthonyhammond.com
SUMMARY:Cirencester Parish Church
DESCRIPTION:Bach Connections – the music of JS Bach\, its inspirations and its influence. \nConcert 3: Come Dancing \nWorks by Bach\, Rheinberger and Reger
URL:https://anthonyhammond.com/event/cirencester-parish-church-3/
LOCATION:Cirencester Parish Church\, Cirencester\, United Kingdom
CATEGORIES:Recital
END:VEVENT
BEGIN:VEVENT
DTSTART;VALUE=DATE:20160720
DTEND;VALUE=DATE:20160723
DTSTAMP:20260421T002844
CREATED:20160329T081713Z
LAST-MODIFIED:20160329T081713Z
UID:350-1468972800-1469231999@anthonyhammond.com
SUMMARY:Royal Agricultural University Convocation
DESCRIPTION:
URL:https://anthonyhammond.com/event/royal-agricultural-university-convocation/
LOCATION:Cirencester Parish Church\, Cirencester\, United Kingdom
CATEGORIES:Recital
END:VEVENT
BEGIN:VEVENT
DTSTART;TZID=UTC:20160725T131000
DTEND;TZID=UTC:20160725T135000
DTSTAMP:20260421T002844
CREATED:20160616T104936Z
LAST-MODIFIED:20160616T104936Z
UID:368-1469452200-1469454600@anthonyhammond.com
SUMMARY:Cirencester Parish Church
DESCRIPTION:Bach Connections – the music of JS Bach\, its inspirations and its influence. \nConcert 4: Bach Reimagined \nWorks by Liszt and Widor
URL:https://anthonyhammond.com/event/cirencester-parish-church-4/
LOCATION:Cirencester Parish Church\, Cirencester\, United Kingdom
CATEGORIES:Recital
END:VEVENT
END:VCALENDAR