BEGIN:VCALENDAR
VERSION:2.0
PRODID:-//Anthony Hammond - ECPv6.15.12.2//NONSGML v1.0//EN
CALSCALE:GREGORIAN
METHOD:PUBLISH
X-WR-CALNAME:Anthony Hammond
X-ORIGINAL-URL:https://anthonyhammond.com
X-WR-CALDESC:Events for Anthony Hammond
REFRESH-INTERVAL;VALUE=DURATION:PT1H
X-Robots-Tag:noindex
X-PUBLISHED-TTL:PT1H
BEGIN:VTIMEZONE
TZID:UTC
BEGIN:STANDARD
TZOFFSETFROM:+0000
TZOFFSETTO:+0000
TZNAME:UTC
DTSTART:20150101T000000
END:STANDARD
END:VTIMEZONE
BEGIN:VEVENT
DTSTART;TZID=UTC:20160807T170000
DTEND;TZID=UTC:20160807T174500
DTSTAMP:20260420T224016
CREATED:20160616T105114Z
LAST-MODIFIED:20160616T105114Z
UID:369-1470589200-1470591900@anthonyhammond.com
SUMMARY:Cirencester Parish Church
DESCRIPTION:Organ Masters – Four great composers for the organ \nConcert 1: César Franck
URL:https://anthonyhammond.com/event/cirencester-parish-church-5/
LOCATION:Cirencester Parish Church\, Cirencester\, United Kingdom
CATEGORIES:Recital
END:VEVENT
BEGIN:VEVENT
DTSTART;TZID=UTC:20160814T170000
DTEND;TZID=UTC:20160814T174500
DTSTAMP:20260420T224016
CREATED:20160616T105219Z
LAST-MODIFIED:20160616T105219Z
UID:370-1471194000-1471196700@anthonyhammond.com
SUMMARY:Cirencester Parish Church
DESCRIPTION:Organ Masters – Four great composers for the organ \nConcert 2: Charles-Marie Widor
URL:https://anthonyhammond.com/event/cirencester-parish-church-6/
LOCATION:Cirencester Parish Church\, Cirencester\, United Kingdom
CATEGORIES:Recital
END:VEVENT
BEGIN:VEVENT
DTSTART;TZID=UTC:20160821T170000
DTEND;TZID=UTC:20160821T174500
DTSTAMP:20260420T224016
CREATED:20160616T105331Z
LAST-MODIFIED:20160616T105331Z
UID:371-1471798800-1471801500@anthonyhammond.com
SUMMARY:Cirencester Parish Church
DESCRIPTION:Organ Masters – Four great composers for the organ \nConcert 3: Franz Liszt
URL:https://anthonyhammond.com/event/cirencester-parish-church-7/
LOCATION:Cirencester Parish Church\, Cirencester\, United Kingdom
CATEGORIES:Recital
END:VEVENT
END:VCALENDAR