BEGIN:VCALENDAR
VERSION:2.0
PRODID:-//Anthony Hammond - ECPv6.15.12.2//NONSGML v1.0//EN
CALSCALE:GREGORIAN
METHOD:PUBLISH
X-ORIGINAL-URL:https://anthonyhammond.com
X-WR-CALDESC:Events for Anthony Hammond
REFRESH-INTERVAL;VALUE=DURATION:PT1H
X-Robots-Tag:noindex
X-PUBLISHED-TTL:PT1H
BEGIN:VTIMEZONE
TZID:UTC
BEGIN:STANDARD
TZOFFSETFROM:+0000
TZOFFSETTO:+0000
TZNAME:UTC
DTSTART:20150101T000000
END:STANDARD
END:VTIMEZONE
BEGIN:VEVENT
DTSTART;TZID=UTC:20161114T131000
DTEND;TZID=UTC:20161114T135000
DTSTAMP:20260420T175107
CREATED:20160929T092954Z
LAST-MODIFIED:20160929T092954Z
UID:483-1479129000-1479131400@anthonyhammond.com
SUMMARY:Cirencester Parish Church
DESCRIPTION:Following a successful summer series Anthony Hammond will be back in November with a series of three\, free Monday lunchtime organ recitals. With everyone talking about the USA election on 8th November the theme for concerts on Mondays 14th\, 21st and 28th November will be Americana – featuring organ music from and about the USA.
URL:https://anthonyhammond.com/event/cirencester-parish-church-9/
LOCATION:Cirencester Parish Church\, Cirencester\, United Kingdom
CATEGORIES:Recital
END:VEVENT
BEGIN:VEVENT
DTSTART;TZID=UTC:20161121T131000
DTEND;TZID=UTC:20161121T135000
DTSTAMP:20260420T175107
CREATED:20160929T093109Z
LAST-MODIFIED:20160929T093109Z
UID:484-1479733800-1479736200@anthonyhammond.com
SUMMARY:Cirencester Parish Church
DESCRIPTION:Following a successful summer series Anthony Hammond will be back in November with a series of three\, free Monday lunchtime organ recitals. With everyone talking about the USA election on 8th November the theme for concerts on Mondays 14th\, 21st and 28th November will be Americana – featuring organ music from and about the USA.
URL:https://anthonyhammond.com/event/cirencester-parish-church-10/
LOCATION:Cirencester Parish Church\, Cirencester\, United Kingdom
CATEGORIES:Recital
END:VEVENT
BEGIN:VEVENT
DTSTART;TZID=UTC:20161128T131000
DTEND;TZID=UTC:20161128T135000
DTSTAMP:20260420T175107
CREATED:20160929T093155Z
LAST-MODIFIED:20160929T093155Z
UID:485-1480338600-1480341000@anthonyhammond.com
SUMMARY:Cirencester Parish Church
DESCRIPTION:Following a successful summer series Anthony Hammond will be back in November with a series of three\, free Monday lunchtime organ recitals. With everyone talking about the USA election on 8th November the theme for concerts on Mondays 14th\, 21st and 28th November will be Americana – featuring organ music from and about the USA.
URL:https://anthonyhammond.com/event/cirencester-parish-church-11/
LOCATION:Cirencester Parish Church\, Cirencester\, United Kingdom
CATEGORIES:Recital
END:VEVENT
END:VCALENDAR