BEGIN:VCALENDAR
VERSION:2.0
PRODID:-//Anthony Hammond - ECPv6.15.12.2//NONSGML v1.0//EN
CALSCALE:GREGORIAN
METHOD:PUBLISH
X-ORIGINAL-URL:https://anthonyhammond.com
X-WR-CALDESC:Events for Anthony Hammond
REFRESH-INTERVAL;VALUE=DURATION:PT1H
X-Robots-Tag:noindex
X-PUBLISHED-TTL:PT1H
BEGIN:VTIMEZONE
TZID:UTC
BEGIN:STANDARD
TZOFFSETFROM:+0000
TZOFFSETTO:+0000
TZNAME:UTC
DTSTART:20160101T000000
END:STANDARD
END:VTIMEZONE
BEGIN:VEVENT
DTSTART;TZID=UTC:20170206T131000
DTEND;TZID=UTC:20170206T135000
DTSTAMP:20260420T131555
CREATED:20170118T143640Z
LAST-MODIFIED:20170118T143741Z
UID:490-1486386600-1486389000@anthonyhammond.com
SUMMARY:Cirencester Parish Church\, UK
DESCRIPTION:A birthday concert series featuring some of Anthony’s best-loved organ music
URL:https://anthonyhammond.com/event/cirencester-parish-church-12/
LOCATION:Cirencester Parish Church\, Cirencester\, United Kingdom
CATEGORIES:Recital
END:VEVENT
BEGIN:VEVENT
DTSTART;TZID=UTC:20170213T131000
DTEND;TZID=UTC:20170213T135000
DTSTAMP:20260420T131555
CREATED:20170118T143901Z
LAST-MODIFIED:20170118T143901Z
UID:492-1486991400-1486993800@anthonyhammond.com
SUMMARY:Cirencester Parish Church\, UK
DESCRIPTION:A birthday concert series featuring some of Anthony’s best-loved organ music
URL:https://anthonyhammond.com/event/cirencester-parish-church-uk/
LOCATION:Cirencester Parish Church\, Cirencester\, United Kingdom
CATEGORIES:Recital
END:VEVENT
BEGIN:VEVENT
DTSTART;TZID=UTC:20170220T131000
DTEND;TZID=UTC:20170220T135000
DTSTAMP:20260420T131555
CREATED:20170118T143946Z
LAST-MODIFIED:20170118T143946Z
UID:493-1487596200-1487598600@anthonyhammond.com
SUMMARY:Cirencester Parish Church\, UK
DESCRIPTION:A birthday concert series featuring some of Anthony’s best-loved organ music
URL:https://anthonyhammond.com/event/cirencester-parish-church-uk-2/
LOCATION:Cirencester Parish Church\, Cirencester\, United Kingdom
CATEGORIES:Recital
END:VEVENT
END:VCALENDAR