BEGIN:VCALENDAR
VERSION:2.0
PRODID:-//Anthony Hammond - ECPv6.15.12.2//NONSGML v1.0//EN
CALSCALE:GREGORIAN
METHOD:PUBLISH
X-WR-CALNAME:Anthony Hammond
X-ORIGINAL-URL:https://anthonyhammond.com
X-WR-CALDESC:Events for Anthony Hammond
REFRESH-INTERVAL;VALUE=DURATION:PT1H
X-Robots-Tag:noindex
X-PUBLISHED-TTL:PT1H
BEGIN:VTIMEZONE
TZID:UTC
BEGIN:STANDARD
TZOFFSETFROM:+0000
TZOFFSETTO:+0000
TZNAME:UTC
DTSTART:20140101T000000
END:STANDARD
END:VTIMEZONE
BEGIN:VEVENT
DTSTART;TZID=UTC:20151025T160000
DTEND;TZID=UTC:20151025T170000
DTSTAMP:20260422T231115
CREATED:20150722T130620Z
LAST-MODIFIED:20150722T131252Z
UID:139-1445788800-1445792400@anthonyhammond.com
SUMMARY:World Premiere: Holy Cross Cathedral\, Boston\, USA
DESCRIPTION:US Premiere of Anthony Hammond’s Messe Solennelle
URL:https://anthonyhammond.com/event/world-premiere-holy-cross-cathedral-boston/
LOCATION:Holy Cross Cathedral\, Boston
CATEGORIES:Recital
END:VEVENT
END:VCALENDAR