BEGIN:VCALENDAR
VERSION:2.0
PRODID:-//Anthony Hammond - ECPv6.15.12.2//NONSGML v1.0//EN
CALSCALE:GREGORIAN
METHOD:PUBLISH
X-WR-CALNAME:Anthony Hammond
X-ORIGINAL-URL:https://anthonyhammond.com
X-WR-CALDESC:Events for Anthony Hammond
REFRESH-INTERVAL;VALUE=DURATION:PT1H
X-Robots-Tag:noindex
X-PUBLISHED-TTL:PT1H
BEGIN:VTIMEZONE
TZID:UTC
BEGIN:STANDARD
TZOFFSETFROM:+0000
TZOFFSETTO:+0000
TZNAME:UTC
DTSTART:20160101T000000
END:STANDARD
END:VTIMEZONE
BEGIN:VEVENT
DTSTART;VALUE=DATE:20171021
DTEND;VALUE=DATE:20171022
DTSTAMP:20260423T111812
CREATED:20170925T105159Z
LAST-MODIFIED:20180112T212202Z
UID:578-1508544000-1508630399@anthonyhammond.com
SUMMARY:IAO Regional Organ Day - Bournemouth
DESCRIPTION:Anthony will be leading a workshop on Practical Guidance on Organ Improvisation in a Liturgical setting.
URL:https://anthonyhammond.com/event/iao-regional-organ-day-bournemouth/
CATEGORIES:Lecture
END:VEVENT
BEGIN:VEVENT
DTSTART;TZID=UTC:20171028T193000
DTEND;TZID=UTC:20171028T213000
DTSTAMP:20260423T111812
CREATED:20170406T160353Z
LAST-MODIFIED:20180112T212155Z
UID:541-1509219000-1509226200@anthonyhammond.com
SUMMARY:Herefordshire Historic Churches Trust - The Hunchback of Notre Dame
DESCRIPTION:This classic movie will be shown with an improvised organ accompaniment. \nMore information to be released soon on http://www.hhct.co.uk/ \n 
URL:https://anthonyhammond.com/event/herefordshire-historic-churches-trust-the-hunchback-of-notre-dame/
LOCATION:St Michael’s\, Ledbury\, Church Rd\,\, Ledbury\, HR8 1EB\, United Kingdom
CATEGORIES:Silent Movie
END:VEVENT
END:VCALENDAR