BEGIN:VCALENDAR
VERSION:2.0
PRODID:-//Anthony Hammond - ECPv6.15.12.2//NONSGML v1.0//EN
CALSCALE:GREGORIAN
METHOD:PUBLISH
X-ORIGINAL-URL:https://anthonyhammond.com
X-WR-CALDESC:Events for Anthony Hammond
REFRESH-INTERVAL;VALUE=DURATION:PT1H
X-Robots-Tag:noindex
X-PUBLISHED-TTL:PT1H
BEGIN:VTIMEZONE
TZID:UTC
BEGIN:STANDARD
TZOFFSETFROM:+0000
TZOFFSETTO:+0000
TZNAME:UTC
DTSTART:20170101T000000
END:STANDARD
END:VTIMEZONE
BEGIN:VEVENT
DTSTART;TZID=UTC:20180301T203000
DTEND;TZID=UTC:20180301T210000
DTSTAMP:20260423T033346
CREATED:20180111T124632Z
LAST-MODIFIED:20180112T212142Z
UID:586-1519936200-1519938000@anthonyhammond.com
SUMMARY:Keble College\, Oxford
DESCRIPTION:
URL:https://anthonyhammond.com/event/keble-college-oxford/
LOCATION:Keble College\, Oxford\, Keble College\, Oxford\, OX1 3PG\, United Kingdom
CATEGORIES:Recital
END:VEVENT
BEGIN:VEVENT
DTSTART;VALUE=DATE:20180304
DTEND;VALUE=DATE:20180305
DTSTAMP:20260423T033346
CREATED:20170925T104753Z
LAST-MODIFIED:20180112T212134Z
UID:572-1520121600-1520207999@anthonyhammond.com
SUMMARY:Saint-Sulpice\, Paris\, France
DESCRIPTION:
URL:https://anthonyhammond.com/event/saint-sulpice-paris-france/
LOCATION:Saint-Sulpice\, Paris
CATEGORIES:Recital
END:VEVENT
END:VCALENDAR