BEGIN:VCALENDAR
VERSION:2.0
PRODID:-//Anthony Hammond - ECPv6.15.12.2//NONSGML v1.0//EN
CALSCALE:GREGORIAN
METHOD:PUBLISH
X-WR-CALNAME:Anthony Hammond
X-ORIGINAL-URL:https://anthonyhammond.com
X-WR-CALDESC:Events for Anthony Hammond
REFRESH-INTERVAL;VALUE=DURATION:PT1H
X-Robots-Tag:noindex
X-PUBLISHED-TTL:PT1H
BEGIN:VTIMEZONE
TZID:UTC
BEGIN:STANDARD
TZOFFSETFROM:+0000
TZOFFSETTO:+0000
TZNAME:UTC
DTSTART:20170101T000000
END:STANDARD
END:VTIMEZONE
BEGIN:VEVENT
DTSTART;TZID=UTC:20181204T120000
DTEND;TZID=UTC:20181204T130000
DTSTAMP:20260422T150740
CREATED:20180112T205602Z
LAST-MODIFIED:20180112T212049Z
UID:596-1543924800-1543928400@anthonyhammond.com
SUMMARY:Cheltenham College
DESCRIPTION:
URL:https://anthonyhammond.com/event/cheltenham-college/
LOCATION:Cheltenham College\, Cheltenham College\, Bath Road\, Cheltenham\, Bath Rd\, Cheltenham GL53 7LD\, United Kingdom
CATEGORIES:Recital
END:VEVENT
END:VCALENDAR